BEGIN:VCALENDAR
VERSION:2.0
PRODID:-//Whatz.Today - ECPv6.15.20//NONSGML v1.0//EN
CALSCALE:GREGORIAN
METHOD:PUBLISH
X-WR-CALNAME:Whatz.Today
X-ORIGINAL-URL:https://whatz.today
X-WR-CALDESC:Events for Whatz.Today
REFRESH-INTERVAL;VALUE=DURATION:PT1H
X-Robots-Tag:noindex
X-PUBLISHED-TTL:PT1H
BEGIN:VTIMEZONE
TZID:UTC
BEGIN:STANDARD
TZOFFSETFROM:+0000
TZOFFSETTO:+0000
TZNAME:UTC
DTSTART:20250101T000000
END:STANDARD
END:VTIMEZONE
BEGIN:VEVENT
DTSTART;VALUE=DATE:20261210
DTEND;VALUE=DATE:20261211
DTSTAMP:20260423T175816
CREATED:20251210T200652Z
LAST-MODIFIED:20251226T182601Z
UID:427-1796860800-1796947199@whatz.today
SUMMARY:Lager Day 🍺✨
DESCRIPTION:Lager Day 🍺✨ \nRaise a glass and enjoy the crisp\, clean\, refreshing taste of a classic—today is Lager Day!\nLight\, smooth\, and easy to love\, lagers are the go-to brew for chill nights\, good company\, and simple moments done right. \n🍺 Try a local craft lager\n🌾 Explore different styles—pilsner\, amber\, helles\n🍻 Share a drink with friends\n📸 Snap your Lager Day toast \nHere’s to smooth sips and good vibes. Cheers! \n #LagerDay #CheersToBeer #ColdOnes #BeerLovers #WhatzToday #DailyVibes #CraftBeerLife #GoodTimes #SipAndRelax #BeerCulture
URL:https://whatz.today/event/lager-day-%f0%9f%8d%ba%e2%9c%a8/
ATTACH;FMTTYPE=image/png:https://whatz.today/wp-content/uploads/2025/12/1.png
END:VEVENT
BEGIN:VEVENT
DTSTART;VALUE=DATE:20261210
DTEND;VALUE=DATE:20261211
DTSTAMP:20260423T175816
CREATED:20251210T200902Z
LAST-MODIFIED:20251226T182647Z
UID:432-1796860800-1796947199@whatz.today
SUMMARY:Decimal System Day 🔢✨
DESCRIPTION:Decimal System Day 🔢✨ \nToday we celebrate the number system that keeps the world running smoothly — the decimal system!\nFrom everyday math to science\, finance\, and technology\, our base-10 system makes counting\, calculating\, and understanding the world beautifully simple. \n🔢 Appreciate the elegance of numbers\n🧮 Do a fun math puzzle\n📚 Learn how ancient civilizations shaped the system\n✨ Notice how often you rely on it \nA day for the digits that make everything add up. \n #DecimalSystemDay #NumbersMatter #MathMagic #WhatzToday #DailyVibes #Base10 #NumberNerd #EverydayMath #SmartLiving #LearningIsFun
URL:https://whatz.today/event/decimal-system-day-%f0%9f%94%a2%e2%9c%a8/
ATTACH;FMTTYPE=image/png:https://whatz.today/wp-content/uploads/2025/12/3.png
END:VEVENT
BEGIN:VEVENT
DTSTART;VALUE=DATE:20261210
DTEND;VALUE=DATE:20261211
DTSTAMP:20260423T175816
CREATED:20251210T201033Z
LAST-MODIFIED:20251226T182702Z
UID:438-1796860800-1796947199@whatz.today
SUMMARY:Animal Rights Day 🐾❤️
DESCRIPTION:Animal Rights Day 🐾❤️ \nToday we stand up for those who cannot speak for themselves — it’s Animal Rights Day.\nA reminder that every animal deserves respect\, compassion\, and protection\, no matter their size\, species\, or story. \n🐾 Learn about animal welfare issues\n❤️ Support cruelty-free choices\n🐶 Adopt\, don’t shop when possible\n📣 Use your voice to spread awareness \nKindness to animals is kindness to our planet — and to ourselves. \n #AnimalRightsDay #ProtectAllAnimals #CompassionFirst #CrueltyFreeLiving #WhatzToday #DailyVibes #LoveAllCreatures #EthicalLiving #SpeakForTheVoiceless #KindnessMatters
URL:https://whatz.today/event/animal-rights-day-%f0%9f%90%be%e2%9d%a4%ef%b8%8f/
ATTACH;FMTTYPE=image/png:https://whatz.today/wp-content/uploads/2025/12/2.png
END:VEVENT
BEGIN:VEVENT
DTSTART;VALUE=DATE:20261210
DTEND;VALUE=DATE:20261211
DTSTAMP:20260423T175816
CREATED:20251210T201206Z
LAST-MODIFIED:20251226T182719Z
UID:442-1796860800-1796947199@whatz.today
SUMMARY:Nobel Prize Day 🏅✨
DESCRIPTION:Nobel Prize Day 🏅✨ \nToday we honor the visionaries\, innovators\, peacebuilders\, and world-changers who have shaped humanity through their brilliance and courage — it’s Nobel Prize Day.\nFrom groundbreaking science to life-saving efforts for peace\, the Nobel Prizes remind us of what’s possible when passion meets purpose. \n🏅 Learn about this year’s laureates\n📚 Explore past discoveries & achievements\n🌍 Reflect on how one idea can impact the world\n✨ Let their stories inspire your own spark \nBig change begins with bold thinking. \n #NobelPrizeDay #InnovationInspires #WorldChangers #PeaceAndProgress #WhatzToday #DailyVibes #BrilliantMinds #GlobalImpact #InspirationDay #ThinkBig
URL:https://whatz.today/event/nobel-prize-day-%f0%9f%8f%85%e2%9c%a8/
ATTACH;FMTTYPE=image/png:https://whatz.today/wp-content/uploads/2025/12/4.png
END:VEVENT
END:VCALENDAR