BEGIN:VCALENDAR
VERSION:2.0
PRODID:-//Whatz.Today - ECPv6.15.20//NONSGML v1.0//EN
CALSCALE:GREGORIAN
METHOD:PUBLISH
X-ORIGINAL-URL:https://whatz.today
X-WR-CALDESC:Events for Whatz.Today
REFRESH-INTERVAL;VALUE=DURATION:PT1H
X-Robots-Tag:noindex
X-PUBLISHED-TTL:PT1H
BEGIN:VTIMEZONE
TZID:UTC
BEGIN:STANDARD
TZOFFSETFROM:+0000
TZOFFSETTO:+0000
TZNAME:UTC
DTSTART:20250101T000000
END:STANDARD
END:VTIMEZONE
BEGIN:VEVENT
DTSTART;VALUE=DATE:20261208
DTEND;VALUE=DATE:20261209
DTSTAMP:20260422T233307
CREATED:20251209T025830Z
LAST-MODIFIED:20251226T182137Z
UID:381-1796688000-1796774399@whatz.today
SUMMARY:Brownie Day 🍫🤎
DESCRIPTION:December — Brownie Day 🍫🤎 \nToday is all about warm\, fudgy\, chocolatey goodness—welcome to Brownie Day!\nWhether you love them chewy\, gooey\, cakey\, or loaded with extras\, brownies are pure comfort in every bite. \n🤎 Bake a fresh batch\n🍫 Add nuts\, caramel\, or swirls\n🍽️ Share with someone you love\n📸 Post your brownie masterpiece \nLife is sweeter with chocolate…and even sweeter with brownies. \n #BrownieDay #ChocolateLovers #BakingJoy #SweetTreats #WhatzToday #DailyVibes #DessertTime #FudgyGoodness #BakeWithLove #YumVibes
URL:https://whatz.today/event/brownie-day-%f0%9f%8d%ab%f0%9f%a4%8e/
ATTACH;FMTTYPE=image/jpeg:https://whatz.today/wp-content/uploads/2025/12/1-3.jpg
END:VEVENT
BEGIN:VEVENT
DTSTART;VALUE=DATE:20261208
DTEND;VALUE=DATE:20261209
DTSTAMP:20260422T233307
CREATED:20251209T030038Z
LAST-MODIFIED:20251226T182155Z
UID:386-1796688000-1796774399@whatz.today
SUMMARY:Green Monday 💚🛍️
DESCRIPTION:Green Monday 💚🛍️ \nToday marks one of the biggest online shopping days of the season — Green Monday!\nIt’s all about last-chance deals\, eco-friendly choices\, and making smart purchases before the holiday rush hits its peak. \n💚 Shop sustainably when you can\n🛍️ Support small & local businesses\n♻️ Choose reusable\, recyclable\, or low-waste gifts\n✨ Grab those final holiday deals \nShop smart\, shop kind\, and let your choices make a positive mark. \n #GreenMonday #HolidayDeals #SustainableShopping #EcoFriendlyChoices #WhatzToday #DailyVibes #ShopSmart #LastChanceSales #GreenLiving #SeasonOfGiving
URL:https://whatz.today/event/green-monday-%f0%9f%92%9a%f0%9f%9b%8d%ef%b8%8f/
ATTACH;FMTTYPE=image/jpeg:https://whatz.today/wp-content/uploads/2025/12/2-3.jpg
END:VEVENT
BEGIN:VEVENT
DTSTART;VALUE=DATE:20261208
DTEND;VALUE=DATE:20261209
DTSTAMP:20260422T233307
CREATED:20251209T030316Z
LAST-MODIFIED:20251226T182253Z
UID:391-1796688000-1796774399@whatz.today
SUMMARY:Blue Collar Day 🔧💙
DESCRIPTION:Blue Collar Day 🔧💙 \nToday we honor the hardworking men and women who keep our world running — the builders\, fixers\, makers\, and doers.\nBlue Collar Day celebrates dedication\, skill\, resilience\, and the hands that power our communities every single day. \n🔧 Builders & mechanics\n⚙️ Technicians & electricians\n🚚 Drivers\, operators\, and laborers\n💙 Everyone who works with strength\, precision\, and pride \nTake a moment to thank someone in a blue-collar role today. Their work is the backbone of everyday life. \n #BlueCollarDay #HardWorkHonored #RespectAndGratitude #EverydayHeroes #WhatzToday #DailyVibes #HandsOnWork #CommunityStrength #SkilledTrades #ThankYouWorkers
URL:https://whatz.today/event/blue-collar-day-%f0%9f%94%a7%f0%9f%92%99/
ATTACH;FMTTYPE=image/jpeg:https://whatz.today/wp-content/uploads/2025/12/3-2.jpg
END:VEVENT
END:VCALENDAR